{"text_format":"1","workbook":"xlsx","n_sheets":2,"sheets":["melo","NOTE"],"not_rendered":{"charts":0,"images":3,"macros":1,"external_links":0,"defined_names":0,"comments":0,"pivot_tables":0},"unopened":[],"bounds":{"document_bytes":16777216,"sheet_cells":100000,"rows_first":2000,"rows_last":500,"rows_between":2000,"halvings":0,"cell_chars":16384,"cell_head_chars":4096},"cells_cut":0,"cells_raw":0,"read":"whole","date_system":"1900"}

{"sheet":"melo","index":0,"n_rows":19,"n_cols":15,"rows_kept":19,"cut":false,"hidden":false,"merged":[]}
["Note","C","D","E","F","G","A","B","hC","hD","hE","hF","hG","hA","hB"]
["Onpu",4,2,4,4,4,4,4,4,4,4,4,4,4,4]
["Oct",{"$f":"IF(LEFT(B$1,1)=\"u\",-1,0)+IF(LEFT(B$1,1)=\"h\",1,0)","v":0},{"$f":"IF(LEFT(C$1,1)=\"u\",-1,0)+IF(LEFT(C$1,1)=\"h\",1,0)","v":0},0,0,0,0,0,1,1,1,1,1,1,1]
[]
["Hz",{"$f":"ROUND(VLOOKUP(RIGHT(B$1,1),NOTE!$A$2:$D$13,3+B3,0),0)","v":1047},{"$f":"ROUND(VLOOKUP(RIGHT(C$1,1),NOTE!$A$2:$D$13,3+C3,0),0)","v":1175},{"$f":"ROUND(VLOOKUP(RIGHT(D$1,1),NOTE!$A$2:$D$13,3+D3,0),0)","v":1319},{"$f":"ROUND(VLOOKUP(RIGHT(E$1,1),NOTE!$A$2:$D$13,3+E3,0),0)","v":1397},{"$f":"ROUND(VLOOKUP(RIGHT(F$1,1),NOTE!$A$2:$D$13,3+F3,0),0)","v":1568},{"$f":"ROUND(VLOOKUP(RIGHT(G$1,1),NOTE!$A$2:$D$13,3+G3,0),0)","v":1760},{"$f":"ROUND(VLOOKUP(RIGHT(H$1,1),NOTE!$A$2:$D$13,3+H3,0),0)","v":1976},{"$f":"ROUND(VLOOKUP(RIGHT(I$1,1),NOTE!$A$2:$D$13,3+I3,0),0)","v":2093},{"$f":"ROUND(VLOOKUP(RIGHT(J$1,1),NOTE!$A$2:$D$13,3+J3,0),0)","v":2349},{"$f":"ROUND(VLOOKUP(RIGHT(K$1,1),NOTE!$A$2:$D$13,3+K3,0),0)","v":2637},{"$f":"ROUND(VLOOKUP(RIGHT(L$1,1),NOTE!$A$2:$D$13,3+L3,0),0)","v":2794},{"$f":"ROUND(VLOOKUP(RIGHT(M$1,1),NOTE!$A$2:$D$13,3+M3,0),0)","v":3136},{"$f":"ROUND(VLOOKUP(RIGHT(N$1,1),NOTE!$A$2:$D$13,3+N3,0),0)","v":3520},{"$f":"ROUND(VLOOKUP(RIGHT(O$1,1),NOTE!$A$2:$D$13,3+O3,0),0)","v":3951}]
["ms",{"$f":"NOTE!$I$2*B$2","v":500},{"$f":"NOTE!$I$2*C$2","v":250},{"$f":"NOTE!$I$2*D$2","v":500},{"$f":"NOTE!$I$2*E$2","v":500},{"$f":"NOTE!$I$2*F$2","v":500},{"$f":"NOTE!$I$2*G$2","v":500},{"$f":"NOTE!$I$2*H$2","v":500},{"$f":"NOTE!$I$2*I$2","v":500},{"$f":"NOTE!$I$2*J$2","v":500},{"$f":"NOTE!$I$2*K$2","v":500},{"$f":"NOTE!$I$2*L$2","v":500},{"$f":"NOTE!$I$2*M$2","v":500},{"$f":"NOTE!$I$2*N$2","v":500},{"$f":"NOTE!$I$2*O$2","v":500}]
[null,{"$f":"-INT(RAND()*60)","v":-35},-40,{"$f":"-INT(RAND()*60)","v":-21},{"$f":"-INT(RAND()*60)","v":-16},-9,-37,-35,-1,-22,-36,-5,-19,-29,-10]
["音痴",{"$f":"B5+B7","v":1012},{"$f":"C5+C7","v":1135},1298,1381,1559,1723,1941,2092,{"$f":"J5+J7","v":2327},{"$f":"K5+K7","v":2601},{"$f":"L5+L7","v":2789},{"$f":"M5+M7","v":3117},{"$f":"N5+N7","v":3491},{"$f":"O5+O7","v":3941}]
[{"$f":"A6","v":"ms"},{"$f":"NOTE!$I$2*B$2","v":500},{"$f":"NOTE!$I$2*C$2","v":250},{"$f":"NOTE!$I$2*D$2","v":500},{"$f":"NOTE!$I$2*E$2","v":500},{"$f":"NOTE!$I$2*F$2","v":500},{"$f":"NOTE!$I$2*G$2","v":500},{"$f":"NOTE!$I$2*H$2","v":500},{"$f":"NOTE!$I$2*I$2","v":500},{"$f":"NOTE!$I$2*J$2","v":500},{"$f":"NOTE!$I$2*K$2","v":500},{"$f":"NOTE!$I$2*L$2","v":500},{"$f":"NOTE!$I$2*M$2","v":500},{"$f":"NOTE!$I$2*N$2","v":500},{"$f":"NOTE!$I$2*O$2","v":500}]
[]
["ドレミファソラシ　を　CDEFGAB で入力する。"]
["音の長さ　四分音符なら4 八分音符なら2"]
["速度はNOTEシートで設定。"]
[]
["7行目は音の♭Hzを乱数で決定。"]
["8行目に直接数値を入力してもよい。"]
[]
["上のボタンは正しい歌声"]
["下のボタンは音が下がってる歌声"]

{"sheet":"NOTE","index":1,"n_rows":13,"n_cols":9,"rows_kept":13,"cut":false,"hidden":false,"merged":[]}
[null,"u",880,"h",null,null,"四分音符","ms",16]
["C",{"$f":"C2/2","v":523.25113060119725},{"$f":"$C$1*2^(E2/12)","v":1046.5022612023945},{"$f":"C2*2","v":2093.004522404789},3,null,120,{"$f":"60*1000/G2","v":500},{"$f":"H2*4/I1","v":125}]
["c",{"$f":"C3/2","v":554.36526195374415},1108.7305239074883,{"$f":"C3*2","v":2217.4610478149766},4]
["D",587.32953583481515,1174.6590716696303,2349.3181433392606,5]
["d",622.25396744416184,1244.5079348883237,2489.0158697766474,6]
["E",659.25511382573984,1318.5102276514797,2637.0204553029594,7]
["F",698.45646286600777,1396.9129257320155,2793.8258514640311,8]
["f",739.9888454232688,1479.9776908465376,2959.9553816930752,9]
["G",783.99087196349853,1567.9817439269971,3135.9634878539941,10]
["g",830.60939515989025,1661.2187903197805,3322.437580639561,11]
["A",880,1760,3520,12]
["a",932.32752303617963,1864.6550460723593,3729.3100921447185,13]
["B",987.76660251224826,1975.5332050244965,3951.066410048993,14]